BEGIN:VCALENDAR
PRODID:-//eluceo/ical//2.0/EN
VERSION:2.0
CALSCALE:GREGORIAN
BEGIN:VEVENT
UID:event-46
DTSTAMP:20260424T024024Z
SUMMARY:Contest #1
DESCRIPTION:Get ready for the first contest of the quartile! 🎉 Join us a
 t Skybar!Underground for an unforgettable night of fun\, creativity\, and 
 exciting architectural challenges! 🏆 Grab your friends and form a team 
 of 4 to 5 people to compete for the top spot. Don't miss out\, sign up now
  and let the games begin! We can't wait to see you there!
DTSTART:20241023T150000Z
DTEND:20241023T180000Z
END:VEVENT
BEGIN:VTIMEZONE
TZID:UTC
BEGIN:STANDARD
DTSTART:20241023T150000
TZNAME:UTC
TZOFFSETTO:+0000
TZOFFSETFROM:+0000
END:STANDARD
END:VTIMEZONE
END:VCALENDAR
